BEGIN:VCALENDAR
VERSION:2.0
PRODID:-//Swingtoppers: Handmade ceramic toppers &amp; other pottery treasures - ECPv6.15.20//NONSGML v1.0//EN
CALSCALE:GREGORIAN
METHOD:PUBLISH
X-ORIGINAL-URL:https://swingtoppers.com
X-WR-CALDESC:Events for Swingtoppers: Handmade ceramic toppers &amp; other pottery treasures
REFRESH-INTERVAL;VALUE=DURATION:PT1H
X-Robots-Tag:noindex
X-PUBLISHED-TTL:PT1H
BEGIN:VTIMEZONE
TZID:America/New_York
BEGIN:DAYLIGHT
TZOFFSETFROM:-0500
TZOFFSETTO:-0400
TZNAME:EDT
DTSTART:20240310T070000
END:DAYLIGHT
BEGIN:STANDARD
TZOFFSETFROM:-0400
TZOFFSETTO:-0500
TZNAME:EST
DTSTART:20241103T060000
END:STANDARD
BEGIN:DAYLIGHT
TZOFFSETFROM:-0500
TZOFFSETTO:-0400
TZNAME:EDT
DTSTART:20250309T070000
END:DAYLIGHT
BEGIN:STANDARD
TZOFFSETFROM:-0400
TZOFFSETTO:-0500
TZNAME:EST
DTSTART:20251102T060000
END:STANDARD
BEGIN:DAYLIGHT
TZOFFSETFROM:-0500
TZOFFSETTO:-0400
TZNAME:EDT
DTSTART:20260308T070000
END:DAYLIGHT
BEGIN:STANDARD
TZOFFSETFROM:-0400
TZOFFSETTO:-0500
TZNAME:EST
DTSTART:20261101T060000
END:STANDARD
END:VTIMEZONE
BEGIN:VEVENT
DTSTART;TZID=America/New_York:20250322T140000
DTEND;TZID=America/New_York:20250322T160000
DTSTAMP:20260425T183809
CREATED:20250317T022248Z
LAST-MODIFIED:20250317T173144Z
UID:511-1742652000-1742659200@swingtoppers.com
SUMMARY:3/22 Grizzly Coffee Clay Hang
DESCRIPTION:This event is part of the “Pottery Play Table” series. \nHosted at Grizzly Coffee\n📍 2111 W 6th St\, Brooklyn\, NY 11223 (Right off Avenue U)\nKindly make a food or beverage purchase before joining the play table. \nLimited supplies. To reserve a spot\, send me an email swingtoppers [at] gmail.com. \nWhat?\nThe Pottery Play Table is an open invitation to play with clay for free. Unleash your creativity by sculpting small figurines and experience the joy of working with clay while connecting with others. \nWhy?\nThis project was created to introduce more people to the art of pottery and to provide a space for more human interaction. In NYC\, pottery often has a high barrier to entry. The Pottery Play Table aims to make pottery more accessible\, allowing curious individuals to give it a try without the usual cost and commitment. \nHow?\nClay can be reused and reclaimed\, making it perfect for multiple play sessions. The Pottery Play Table operates on a free-to-play and fee-to-fire model. Participants receive a small amount of clay\, enough to sculpt a figurine\, while supplies last. At the end of each session\, any unfired clay will be reclaimed for future use. No experience is necessary – I’m here to guide you through the process! \nFiring Fees:\nA small fee is charged if you’d like to fire and keep your figurine.\n🔥 Bisque Fire (1 kiln firing) – $12\nFired to cone06. Finished result will be hardened with a matte surface. Decorate with acrylics or other paints at home. Not food safe. \n🔥🔥 Glaze Fire (2 kiln firings) – $20\n🎨 Includes engobe/underglaze for decorating your figurine.\nAfter bisque firing\, I will apply a clear gloss glaze to your figurine.The figurine is fired twice\, reaching cone6 approx 2300ºF\, resulting in a food-safe gloss finish. Perfect as a cute chopstick holder! \n*Fired pieces will be ready for pick up approximately a month after event. \n  \n  \n  \n  \n\n    \n\n    \n      \n      \n      \n      \n      \n\n      Please leave this field empty\n\nCan’t make this workshop? \nSubscribe 🔔 to get alerts of new workshop dates and shop restocks! \n\n\n\n\n\n\n\n\n\n      \n        Check your inbox or spam folder to confirm your subscription.\n         \n                 \n      \n    \n\n      \n\n  \nBy participating in this event\, you acknowledge that you have read\, understood and agree to my terms and conditions.
URL:https://swingtoppers.com/event/3-22-grizzly-coffee-clay-hang/
LOCATION:Grizzly Coffee – West 6\, 2111 W 6th St\, Brooklyn\, NY\, 11223\, United States
CATEGORIES:Pottery Play Table
ATTACH;FMTTYPE=image/png:https://swingtoppers.com/wp-content/uploads/2025/03/Grizzly-Clay-Hang_web.png
END:VEVENT
END:VCALENDAR